BEGIN:VCALENDAR
VERSION:2.0
PRODID:-//The Boys&#039; Brigade Yorkshire and Humberside District - ECPv6.15.13.1//NONSGML v1.0//EN
CALSCALE:GREGORIAN
METHOD:PUBLISH
X-WR-CALNAME:The Boys&#039; Brigade Yorkshire and Humberside District
X-ORIGINAL-URL:https://yorkshireandhumbersidebb.co.uk
X-WR-CALDESC:Events for The Boys&#039; Brigade Yorkshire and Humberside District
REFRESH-INTERVAL;VALUE=DURATION:PT1H
X-Robots-Tag:noindex
X-PUBLISHED-TTL:PT1H
BEGIN:VTIMEZONE
TZID:Europe/London
BEGIN:DAYLIGHT
TZOFFSETFROM:+0000
TZOFFSETTO:+0100
TZNAME:BST
DTSTART:20230326T010000
END:DAYLIGHT
BEGIN:STANDARD
TZOFFSETFROM:+0100
TZOFFSETTO:+0000
TZNAME:GMT
DTSTART:20231029T010000
END:STANDARD
BEGIN:DAYLIGHT
TZOFFSETFROM:+0000
TZOFFSETTO:+0100
TZNAME:BST
DTSTART:20240331T010000
END:DAYLIGHT
BEGIN:STANDARD
TZOFFSETFROM:+0100
TZOFFSETTO:+0000
TZNAME:GMT
DTSTART:20241027T010000
END:STANDARD
BEGIN:DAYLIGHT
TZOFFSETFROM:+0000
TZOFFSETTO:+0100
TZNAME:BST
DTSTART:20250330T010000
END:DAYLIGHT
BEGIN:STANDARD
TZOFFSETFROM:+0100
TZOFFSETTO:+0000
TZNAME:GMT
DTSTART:20251026T010000
END:STANDARD
END:VTIMEZONE
BEGIN:VEVENT
DTSTART;TZID=Europe/London:20241019T090000
DTEND;TZID=Europe/London:20241019T180000
DTSTAMP:20260421T171757
CREATED:20240819T165909Z
LAST-MODIFIED:20240819T170132Z
UID:1974-1729328400-1729360800@yorkshireandhumbersidebb.co.uk
SUMMARY:Youth Leader Training Course (Part 1)
DESCRIPTION:This training is for any registered leader including registered helpers who wishes to complete or update their training in order to develop the knowledge\, skills and attitude required to be competently and effectively work with children and young people. \nLunch: Refreshments and lunch will be provided. Please advise of any special dietary requirements at time of booking. \nUniform: Is NOT required \nFees: £5 per training day per candidate (£10 for the full course) \nAfter booking candidates will be sent more detailed course information. \nFor further information and booking please contact Mr Iain Betts at your earliest convenience on the details below. \nBookings close Saturday 5th October 2024
URL:https://yorkshireandhumbersidebb.co.uk/event/ylt1-oct24/
LOCATION:St Giles Methodist Church\, Addison Drive\, Lincoln\, LN2 4LQ\, United Kingdom
CATEGORIES:Training
ORGANIZER;CN="Mr Iain Betts":MAILTO:gyanddistbbtraining@gmail.com
END:VEVENT
END:VCALENDAR