BEGIN:VCALENDAR
VERSION:2.0
PRODID:-//The Boys&#039; Brigade Yorkshire and Humberside District - ECPv6.15.13.1//NONSGML v1.0//EN
CALSCALE:GREGORIAN
METHOD:PUBLISH
X-ORIGINAL-URL:https://yorkshireandhumbersidebb.co.uk
X-WR-CALDESC:Events for The Boys&#039; Brigade Yorkshire and Humberside District
REFRESH-INTERVAL;VALUE=DURATION:PT1H
X-Robots-Tag:noindex
X-PUBLISHED-TTL:PT1H
BEGIN:VTIMEZONE
TZID:Europe/London
BEGIN:DAYLIGHT
TZOFFSETFROM:+0000
TZOFFSETTO:+0100
TZNAME:BST
DTSTART:20230326T010000
END:DAYLIGHT
BEGIN:STANDARD
TZOFFSETFROM:+0100
TZOFFSETTO:+0000
TZNAME:GMT
DTSTART:20231029T010000
END:STANDARD
BEGIN:DAYLIGHT
TZOFFSETFROM:+0000
TZOFFSETTO:+0100
TZNAME:BST
DTSTART:20240331T010000
END:DAYLIGHT
BEGIN:STANDARD
TZOFFSETFROM:+0100
TZOFFSETTO:+0000
TZNAME:GMT
DTSTART:20241027T010000
END:STANDARD
BEGIN:DAYLIGHT
TZOFFSETFROM:+0000
TZOFFSETTO:+0100
TZNAME:BST
DTSTART:20250330T010000
END:DAYLIGHT
BEGIN:STANDARD
TZOFFSETFROM:+0100
TZOFFSETTO:+0000
TZNAME:GMT
DTSTART:20251026T010000
END:STANDARD
END:VTIMEZONE
BEGIN:VEVENT
DTSTART;TZID=Europe/London:20240608T100000
DTEND;TZID=Europe/London:20240608T160000
DTSTAMP:20260423T125314
CREATED:20240502T210004Z
LAST-MODIFIED:20240511T171454Z
UID:1958-1717840800-1717862400@yorkshireandhumbersidebb.co.uk
SUMMARY:Building Your Skills (BYS) Course
DESCRIPTION:Please see the attachments below for full details and to book. The closing date for bookings is Friday 24th May 2024. \n  \nAttachments:\nBYS June 2024 Information Letter \nBYS June 2024 Booking Form
URL:https://yorkshireandhumbersidebb.co.uk/event/bys-grimsby-jun24/
LOCATION:St Giles Methodist Church\, Addison Drive\, Lincoln\, LN2 4LQ\, United Kingdom
CATEGORIES:Training
ORGANIZER;CN="Mr Iain Betts":MAILTO:gyanddistbbtraining@gmail.com
END:VEVENT
BEGIN:VEVENT
DTSTART;TZID=Europe/London:20240629T100000
DTEND;TZID=Europe/London:20240629T160000
DTSTAMP:20260423T125314
CREATED:20240511T171439Z
LAST-MODIFIED:20240511T171439Z
UID:1967-1719655200-1719676800@yorkshireandhumbersidebb.co.uk
SUMMARY:Skills for King's Badge (Formerly Queen's Badge) Course
DESCRIPTION:Please see the attachment below for full details. For further information and booking forms please contact Iain Betts – details below. The closing date for bookings is Friday 14th June 2024. \n  \nAttachments:\nSkills for King’s Badge June 2024 Information Letter
URL:https://yorkshireandhumbersidebb.co.uk/event/kbskills-jun24/
LOCATION:St Giles Methodist Church\, Addison Drive\, Lincoln\, LN2 4LQ\, United Kingdom
CATEGORIES:Training
ORGANIZER;CN="Mr Iain Betts":MAILTO:gyanddistbbtraining@gmail.com
END:VEVENT
END:VCALENDAR