BEGIN:VCALENDAR
VERSION:2.0
PRODID:-//The Boys&#039; Brigade Yorkshire and Humberside District - ECPv6.15.13.1//NONSGML v1.0//EN
CALSCALE:GREGORIAN
METHOD:PUBLISH
X-ORIGINAL-URL:https://yorkshireandhumbersidebb.co.uk
X-WR-CALDESC:Events for The Boys&#039; Brigade Yorkshire and Humberside District
REFRESH-INTERVAL;VALUE=DURATION:PT1H
X-Robots-Tag:noindex
X-PUBLISHED-TTL:PT1H
BEGIN:VTIMEZONE
TZID:Europe/London
BEGIN:DAYLIGHT
TZOFFSETFROM:+0000
TZOFFSETTO:+0100
TZNAME:BST
DTSTART:20220327T010000
END:DAYLIGHT
BEGIN:STANDARD
TZOFFSETFROM:+0100
TZOFFSETTO:+0000
TZNAME:GMT
DTSTART:20221030T010000
END:STANDARD
BEGIN:DAYLIGHT
TZOFFSETFROM:+0000
TZOFFSETTO:+0100
TZNAME:BST
DTSTART:20230326T010000
END:DAYLIGHT
BEGIN:STANDARD
TZOFFSETFROM:+0100
TZOFFSETTO:+0000
TZNAME:GMT
DTSTART:20231029T010000
END:STANDARD
BEGIN:DAYLIGHT
TZOFFSETFROM:+0000
TZOFFSETTO:+0100
TZNAME:BST
DTSTART:20240331T010000
END:DAYLIGHT
BEGIN:STANDARD
TZOFFSETFROM:+0100
TZOFFSETTO:+0000
TZNAME:GMT
DTSTART:20241027T010000
END:STANDARD
END:VTIMEZONE
BEGIN:VEVENT
DTSTART;TZID=Europe/London:20231021T100000
DTEND;TZID=Europe/London:20231021T170000
DTSTAMP:20260425T171941
CREATED:20230924T104026Z
LAST-MODIFIED:20230924T104026Z
UID:1921-1697882400-1697907600@yorkshireandhumbersidebb.co.uk
SUMMARY:Company Management Training
DESCRIPTION:This is a new training course designed for all Captains and Leaders of Sections within the Boys’ Brigade. This course is also open to\, and suitable for\, all registered Leaders in the Boys’ Brigade. All new Captains must take this course before they are appointed and it is being rolled out now as an optional learning opportunity\, to all current leaders. \nThe event will be subsidised by the East Coast Battalion and is therefore FREE to attend. \nYou will need to bring your own packed lunch but drinks will be provided. \nIf you have any questions or you wish to register for this training then please do get in touch by any of the methods below. \nRegards\nPaddi McGowan\nLeader Development Co-Ordinator
URL:https://yorkshireandhumbersidebb.co.uk/event/company-mgmt-oct23/
LOCATION:Derringham Bank Methodist Church\, Willerby Road\, Hull\, HU5 5DT\, United Kingdom
ORGANIZER;CN="Paddi McGowan":MAILTO:paddimcgwn@aol.com
END:VEVENT
END:VCALENDAR