BEGIN:VCALENDAR
VERSION:2.0
PRODID:-//The Boys&#039; Brigade Yorkshire and Humberside District - ECPv6.15.13.1//NONSGML v1.0//EN
CALSCALE:GREGORIAN
METHOD:PUBLISH
X-WR-CALNAME:The Boys&#039; Brigade Yorkshire and Humberside District
X-ORIGINAL-URL:https://yorkshireandhumbersidebb.co.uk
X-WR-CALDESC:Events for The Boys&#039; Brigade Yorkshire and Humberside District
REFRESH-INTERVAL;VALUE=DURATION:PT1H
X-Robots-Tag:noindex
X-PUBLISHED-TTL:PT1H
BEGIN:VTIMEZONE
TZID:Europe/London
BEGIN:DAYLIGHT
TZOFFSETFROM:+0000
TZOFFSETTO:+0100
TZNAME:BST
DTSTART:20230326T010000
END:DAYLIGHT
BEGIN:STANDARD
TZOFFSETFROM:+0100
TZOFFSETTO:+0000
TZNAME:GMT
DTSTART:20231029T010000
END:STANDARD
BEGIN:DAYLIGHT
TZOFFSETFROM:+0000
TZOFFSETTO:+0100
TZNAME:BST
DTSTART:20240331T010000
END:DAYLIGHT
BEGIN:STANDARD
TZOFFSETFROM:+0100
TZOFFSETTO:+0000
TZNAME:GMT
DTSTART:20241027T010000
END:STANDARD
BEGIN:DAYLIGHT
TZOFFSETFROM:+0000
TZOFFSETTO:+0100
TZNAME:BST
DTSTART:20250330T010000
END:DAYLIGHT
BEGIN:STANDARD
TZOFFSETFROM:+0100
TZOFFSETTO:+0000
TZNAME:GMT
DTSTART:20251026T010000
END:STANDARD
END:VTIMEZONE
BEGIN:VEVENT
DTSTART;TZID=Europe/London:20240928T100000
DTEND;TZID=Europe/London:20240928T160000
DTSTAMP:20260421T201711
CREATED:20240819T165435Z
LAST-MODIFIED:20240819T165435Z
UID:1971-1727517600-1727539200@yorkshireandhumbersidebb.co.uk
SUMMARY:Building Your Skills (BYS) Course
DESCRIPTION:This course is open to young people in Year 1 of the Seniors age group (based on age group changes from 2021/22 session)\, or older\, working towards the President’s Badge or any young person\, who would benefit from developing and building on their teamwork and negotiating skills. \nLunch: Will be provided along with refreshments throughout the day. \nUniform: Is NOT required. \nFees: No charge will be made for this training. \nAfter booking\, candidates will be sent more detailed course information including a BB Special Activity Consent Form which must be completed and handed in on arrival on the day of Training. \nFor further information and booking forms please contact Mr Iain Betts on the details below. \nBookings close Saturday 14th September 2024
URL:https://yorkshireandhumbersidebb.co.uk/event/bys-sept24/
LOCATION:St Giles Methodist Church\, Addison Drive\, Lincoln\, LN2 4LQ\, United Kingdom
CATEGORIES:Training
ORGANIZER;CN="Mr Iain Betts":MAILTO:gyanddistbbtraining@gmail.com
END:VEVENT
END:VCALENDAR